BEGIN:VCALENDAR
VERSION:2.0
PRODID:-//wp-events-plugin.com//7.2.3.1//EN
TZID:America/Chicago
X-WR-TIMEZONE:America/Chicago
BEGIN:VEVENT
UID:88@mosportshalloffame.com
DTSTART;TZID=America/Chicago:20260416T110000
DTEND;TZID=America/Chicago:20260416T130000
DTSTAMP:20260317T183349Z
URL:https://mosportshalloffame.com/events/womens-sports-luncheon-presented
 -by-bee-payne-stewart-foundation-6/
SUMMARY:Women’s Sports Luncheon presented by Bee Payne-Stewart Foundation
DESCRIPTION:WOMEN’S SPORTS LUNCHEON presented by Bee Payne-Stewart Founda
 tion\n\nWhen:\nApril 16\, 2026\n11 am to 1 pm\n*will include 2026 Women’
 s Sports inductees + Wynn Award Honorees\n\nWhere:\nWilson Logistics Arena
  (3001 N Grant Ave\, Springfield\, MO 65803)\n\nTickets &amp\; Tables:\nTi
 ckets- $75 ($80 at the door)\nHead Table Ticket - $100\nTables of 8 - $600
  \n(includes sponsor signage on the table and name listing in the printed 
 program)\n\nCongratulatory Ads:\nHalf page Ad: $300\nFull Page Ad: $600\nD
 igital Ad: $300\nVideo Sponsor: $600\n\nRegistration\n\nOnline Form - Wome
 n&#039\;s Sports Luncheon presented by Payne-Stewart Foundation
CATEGORIES:Luncheon
LOCATION:Wilson Logistics Arena\, 3001 N Grant Ave\, Springfield\, MO\, 658
 03\, United States
GEO:37.252624;-93.298704
X-APPLE-STRUCTURED-LOCATION;VALUE=URI;X-ADDRESS=3001 N Grant Ave\, Springfi
 eld\, MO\, 65803\, United States;X-APPLE-RADIUS=100;X-TITLE=Wilson Logisti
 cs Arena:geo:37.252624,-93.298704
END:VEVENT
BEGIN:VTIMEZONE
TZID:America/Chicago
X-LIC-LOCATION:America/Chicago
BEGIN:DAYLIGHT
DTSTART:20260308T030000
TZOFFSETFROM:-0600
TZOFFSETTO:-0500
TZNAME:CDT
END:DAYLIGHT
END:VTIMEZONE
END:VCALENDAR