BEGIN:VCALENDAR
VERSION:2.0
PRODID:-//wp-events-plugin.com//7.2.3.1//EN
TZID:America/Chicago
X-WR-TIMEZONE:America/Chicago
BEGIN:VEVENT
UID:44@mosportshalloffame.com
DTSTART;TZID=America/Chicago:20240819T100000
DTEND;TZID=America/Chicago:20240819T150000
DTSTAMP:20240805T221200Z
URL:https://mosportshalloffame.com/events/kansas-city-golf-classic/
SUMMARY:Kansas City Hall of Fame Golf Classic
DESCRIPTION:Join us for the Kansas City Hall of Fame Golf Classic \n\nWhen
 : Monday\, August 19\n\nWhere: Staley Farms Golf Course\, Kansas City\n\nM
 orning round: 10 AM\, with 9 AM registration\n\nPlay with a celebrity: You
 r group will be paired with a sports celebrity\, if requested in advance. 
 Some teams prefer a foursome of friends and clients\, too.\n\nTerrific go
 lfer package: Each golfer receives a Hall of Fame logoed polo\, with our s
 hirts from FootJoy and Under Armour\n\nUse of carts &amp\; rules sheets: 
 No\, you don't have to walk\n\nOn-course beverages and snacks: We'll have
  beverages at each tee box\, snacks in your cart\n\nTeam photo: Every pla
 yer receives a team photo\n\nCorporate recognition on course: All players
  will see your corporate sign on a hole sign\n\nTrophies to the winners: 
 Show off the hardware at work or home\n\nCost: It's $1\,000 for a new spon
 sorship team\n\nTo sign up your team: Call us at 417-889-3100.\n
CATEGORIES:Golf
LOCATION:Staley Farms\, 10310 North Olive Avenue\, Kansas City\, MO\, 64155
 \, United States
X-APPLE-STRUCTURED-LOCATION;VALUE=URI;X-ADDRESS=10310 North Olive Avenue\, 
 Kansas City\, MO\, 64155\, United States;X-APPLE-RADIUS=100;X-TITLE=Staley
  Farms:geo:0,0
END:VEVENT
BEGIN:VTIMEZONE
TZID:America/Chicago
X-LIC-LOCATION:America/Chicago
BEGIN:DAYLIGHT
DTSTART:20240310T030000
TZOFFSETFROM:-0600
TZOFFSETTO:-0500
TZNAME:CDT
END:DAYLIGHT
END:VTIMEZONE
END:VCALENDAR