BEGIN:VCALENDAR
VERSION:2.0
PRODID:-//wp-events-plugin.com//7.2.3.1//EN
TZID:America/Chicago
X-WR-TIMEZONE:America/Chicago
BEGIN:VEVENT
UID:61@mosportshalloffame.com
DTSTART;TZID=America/Chicago:20250202T130000
DTEND;TZID=America/Chicago:20250202T160000
DTSTAMP:20241230T205356Z
URL:https://mosportshalloffame.com/events/february-enshrinement-in-springf
 ield/
SUMMARY:February Enshrinement in Springfield presented by Wilson Logistics
DESCRIPTION:\n\nJoin us for our February Enshrinement presented by Wilson L
 ogistics in Springfield.\n\nWHEN: Noon reception\, 1 PM ceremony on Sunday
 \, Feb. 2\n\nWHERE: Ozark Empire Fairgrounds\, Springfield\n\nThe Class of
  2025 is as follows:\n\n 	Rod Staggs – Missouri Sports Legend\n 	Johnny 
 Damon – Kansas City Royals\n\n\n 	Matt Adams – St. Louis Cardinals\n 	
 Brock Olivo – St. Francis Borgia Regional High School &amp\; Mizzou runn
 ing back\n 	Willard Harrell – St. Louis Football Cardinals\n 	Kris Flood
  – Republic High School girls basketball coach\n 	The Godwin Golf Family
  of Poplar Bluff\n 	Brent Thomas – Missouri State baseball hitting coach
 \n 	Nyla Milleson – Glendale\, Drury &amp\; Missouri State basketball co
 ach\n 	Denny Thum – Kansas City Chiefs executive\n 	Jefferson City High 
 School Cross Country Program\n 	 David Glover – University of Central Mi
 ssouri team physician\n 	Benny Lawson – Monett and Parkview High School 
 football coach\n 	Horner Askins – Kickapoo High School cross country and
  track &amp\; field coach\n 	Corey Riggs – Sports Broadcaster\n 	Jean La
 rrick – Tennis coach\n 	Larry Cowger – Voice of Carl Junction Athletic
 s\n 	Lockwood High School Volleyball Era 1983-2008\n 	Larry Garman – Sen
 eca native and football coach\n 	Jeffrey Brummet &amp\; Quarterhorse Tucke
 r – Mounted Shooting\n 	Wilson' Logistics -- John Q. Hammons Founder's A
 ward\n 	Rita West -- President's Award\n\nLEGENDS CAMPAIGN: The Legends Ca
 mpaign for Coach Staggs: includes numerous sponsorship levels in which sup
 porters’ names will be encased in bronze as part of the stone upholding 
 his bronze bust on the Legends Walkway.\n\nINDIVIDUAL TICKETS: An individu
 al ticket is $150.\n\nSPONSORSHIP TABLES: We offer Sponsorship tables of 1
 0\, and the include the gameday poster autographed by individual inductees
 \, and visible recognition at the table and in the printed program.\n\nNUM
 EROUS SPONSORSHIPS: Want to be an associate sponsor? Or celebrate with a c
 ongratulatory ad? We can make that happen.\n\nCALL: 417-889-3100.
CATEGORIES:Enshrinement Ceremony
LOCATION:Ozark Empire Fairgrounds\, 3001 N Grant Ave\, Springfield\, MO\, 6
 5803\, United States
GEO:37.252584;-93.298768
X-APPLE-STRUCTURED-LOCATION;VALUE=URI;X-ADDRESS=3001 N Grant Ave\, Springfi
 eld\, MO\, 65803\, United States;X-APPLE-RADIUS=100;X-TITLE=Ozark Empire F
 airgrounds:geo:37.252584,-93.298768
END:VEVENT
BEGIN:VTIMEZONE
TZID:America/Chicago
X-LIC-LOCATION:America/Chicago
BEGIN:STANDARD
DTSTART:20241103T010000
TZOFFSETFROM:-0500
TZOFFSETTO:-0600
TZNAME:CST
END:STANDARD
END:VTIMEZONE
END:VCALENDAR