BEGIN:VCALENDAR
VERSION:2.0
PRODID:-//wp-events-plugin.com//7.2.3.1//EN
TZID:America/Chicago
X-WR-TIMEZONE:America/Chicago
BEGIN:VEVENT
UID:36@mosportshalloffame.com
DTSTART;TZID=America/Chicago:20231018T110000
DTEND;TZID=America/Chicago:20231018T130000
DTSTAMP:20230831T202454Z
URL:https://mosportshalloffame.com/events/fall-sports-luncheon-presented-b
 y-ozarks-coca-cola-dr-pepper/
SUMMARY:Fall Sports Luncheon presented by Ozarks Coca-Cola/Dr Pepper
DESCRIPTION:Join us for the Fall Sports Luncheon presented by Ozarks Coca-C
 ola/Dr Pepper Bottling Company.\n\nWHEN: 11 AM\, Wednesday\, October 18\n\
 nWHERE: University Plaza Hotel &amp\; Convention Center\, Springfield\n\nI
 NDUCTEES:\n\nClay Harbor -- Missouri State/Philadelphia Eagles\n\nSeth Wan
 d -- Springfield Catholic HS/Northwest Missouri State/NFL\n\nBob Beatty --
  Football Coach\n\nRhonda (Blades) Brown -- Parkview High School/Vanderbil
 t University/WNBA\n\nTerry Higgins -- Carl Junction High School Public Add
 ress Announcer\n\n1992 Missouri Southern State University National Champio
 nship Softball Team\;\n\n2004-2006 Era of Raymore-Peculiar High School Foo
 tball\n\n1993-1997 Era of Wheaton High School Softball \n\n1993-1995 Era 
 of Kickapoo High School Boys Cross Country\n\nElite 11 Awards (former high
  school\, college and/or professional football players who made positive c
 ontributions to the game): They are: Chris Bodoin – Hillcrest High Schoo
 l/Evangel University\, Atiba Bradley – Joplin High School/Missouri South
 ern State University\, Tyler Curts – Skyline High School/Southwest Bapti
 st University\, Malachi Daniels – Branson High School/Missouri Valley Co
 llege\, Dr. Van Darkow – Rock Bridge High School/University of Missouri\
 , Brandon Gutshall – Platte County High School/Truman State University\,
  Jared Helming – Kickapoo High School/University of Nebraska\, Ryan Helm
 ing – Kickapoo High School/University of Northern Iowa\, Samuel Morton 
 – Strafford High School/Evangel University\, Jeff Shore – Camdenton Hi
 gh School/University of Arkansas/Missouri State University\, and Bruce Sta
 ncell – McDonald County High School/Pittsburg State University.\n\nSPONS
 ORSHIP TABLES OF EIGHT: $450 and features recognition in the printed progr
 am and at the table.\n\nHEAD TABLE TICKET: $100 and includes the same perk
 s.\n\nINDIVIDUAL TICKET: $60\, or $70 at the door\n\nPHONE: Numerous spons
 orships are available\, including associate sponsorships and congratulator
 y ads. The ceremony supports the Missouri Sports Hall of Fame\, a 501(c)3 
 not-for-profit. Call 417-889-3100 for more information or to secure ticket
 s.
CATEGORIES:Luncheon
LOCATION:University Plaza Convention Center\, 333 John Q. Hammons Parkway\,
  Springfield\, MO\, 65806\, United States
GEO:37.207566;-93.283042
X-APPLE-STRUCTURED-LOCATION;VALUE=URI;X-ADDRESS=333 John Q. Hammons Parkway
 \, Springfield\, MO\, 65806\, United States;X-APPLE-RADIUS=100;X-TITLE=Uni
 versity Plaza Convention Center:geo:37.207566,-93.283042
END:VEVENT
BEGIN:VTIMEZONE
TZID:America/Chicago
X-LIC-LOCATION:America/Chicago
BEGIN:DAYLIGHT
DTSTART:20230312T030000
TZOFFSETFROM:-0600
TZOFFSETTO:-0500
TZNAME:CDT
END:DAYLIGHT
END:VTIMEZONE
END:VCALENDAR